BEGIN:VCALENDAR
VERSION:2.0
PRODID:-//Library Market//iCal Export//EN
BEGIN:VEVENT
SUMMARY:Sewing Group
UID:193057
DTSTAMP:20260425T130200Z
DTSTART:20260604T230000Z
DTEND:20260605T010000Z
LOCATION:16100 W. 135th St, Olathe, KS 66062, United States
ROOM: The Lab
DESCRIPTION:Bring your own personal sewing projects to work on while socia
 lizing with others! Machine sewing, hand sewing, cross stitch, and embroid
 ery are all welcome! Bring your own machine or use one of ours available a
 s first come, first served. Basic notions will be provided, but please kee
 p in mind there will likely not be space to cut out whole patterns or larg
 e projects.This is a trial program that will happen on the first Thursday 
 of every month, if the library is open and there are no conflicts with sta
 ffing.- Serger and embroidery machine will not be available for use during
  these socials. - This is not an instructional class, but Makerspace Staf
 f will be present to facilitate.- Those under 13 must be with their adult 
 guardian, as this is not a typical class but a social.
URL:https://olathelibrary.librarycalendar.com/index.php/event/sewing-group
 -193057
END:VEVENT
END:VCALENDAR
