BEGIN:VCALENDAR
VERSION:2.0
PRODID:-//Library Market//iCal Export//EN
BEGIN:VEVENT
SUMMARY:Teen Craft Corner
UID:208179
DTSTAMP:20260423T200900Z
DTSTART:20260722T180000Z
DTEND:20260722T200000Z
LOCATION:16100 W. 135th St, Olathe, KS 66062, United States
ROOM: Teen Zone Indian Creek
DESCRIPTION:A space to craft with other teens and use the library&#039;s s
 upplies and materials that you may not have on hand at home. Drop in any t
 ime during the event to participate in our monthly craft or work on your o
 wn project.Monthly Crafts:May - Masking Tape PaintingJune - String ArtJuly
  - Decorate a Tote Bag
URL:https://olathelibrary.librarycalendar.com/index.php/event/wip-open-art
 -studio-208179
END:VEVENT
END:VCALENDAR
