BEGIN:VCALENDAR
VERSION:2.0
PRODID:-//Library Market//iCal Export//EN
BEGIN:VEVENT
SUMMARY:Chess Night
UID:208880
DTSTAMP:20260424T210600Z
DTSTART:20260819T223000Z
DTEND:20260820T000000Z
LOCATION:260 E. Santa Fe St., Olathe, KS 66061, United States
ROOM: Children&#039;s Program Room Downtown
DESCRIPTION:Come play chess with a worthy opponent.  All ages and playing
  levels welcome.
URL:https://olathelibrary.librarycalendar.com/index.php/event/wip-chess-ni
 ght-208880
END:VEVENT
END:VCALENDAR
