BEGIN:VCALENDAR
VERSION:2.0
PRODID:-//Library Market//iCal Export//EN
BEGIN:VEVENT
SUMMARY:Write Place, Write Time
UID:209997
DTSTAMP:20260423T093400Z
DTSTART:20260720T213000Z
DTEND:20260720T230000Z
LOCATION:16100 W. 135th St, Olathe, KS 66062, United States
ROOM: Indian Creek Board Room
DESCRIPTION:For all teens who want to or love to write! All genres and exp
 erience levels welcome. Together, we will look at stories that inspire us,
  explore different elements of storytelling, take part in fun writing acti
 vities, share our creative projects, and, of course, enjoy delicious snack
 s.
URL:https://olathelibrary.librarycalendar.com/index.php/event/write-place-
 write-time-209997
END:VEVENT
END:VCALENDAR
