BEGIN:VCALENDAR
VERSION:2.0
PRODID:-//Library Market//iCal Export//EN
BEGIN:VEVENT
SUMMARY:Dinosaurs Are Not Extinct
UID:211571
DTSTAMP:20260423T211700Z
DTSTART:20260723T183000Z
DTEND:20260723T193000Z
LOCATION:16100 W. 135th St, Olathe, KS 66062, United States
ROOM: Children&#039;s Program Room Indian Creek
DESCRIPTION:Join the Naturalists from Lakeside Nature Center and learn how
  dinosaurs are still here today. Meet and interact with the modern day ani
 mal relatives of the dinosaurs that once ruled the earth.*This program is 
 a repeat of the June 30th program*
URL:https://olathelibrary.librarycalendar.com/index.php/event/dinosaurs-ar
 e-not-extinct-211571
END:VEVENT
END:VCALENDAR
