BEGIN:VCALENDAR
VERSION:2.0
PRODID:-//Library Market//iCal Export//EN
BEGIN:VEVENT
SUMMARY:Read with a Dog
UID:212124
DTSTAMP:20260425T130200Z
DTSTART:20260818T214500Z
DTEND:20260818T220000Z
LOCATION:260 E. Santa Fe St., Olathe, KS 66061, United States
ROOM: Children&#039;s Program Room Downtown
DESCRIPTION:Read aloud to a calm and friendly trained therapy dog for 7-8 
 minutes at a time. Two readers will sign up for each time slot; you may be
  called in to read either first or second. Please be on time for your sess
 ion to ensure that everyone gets to read.During some months, additional th
 erapy dogs may be available upon request. Please sign up for the waitlist 
 if registration is full to indicate your interest.
URL:https://olathelibrary.librarycalendar.com/index.php/event/copy-wip-rea
 d-dog-212124
END:VEVENT
END:VCALENDAR
