BEGIN:VCALENDAR
VERSION:2.0
PRODID:-//Library Market//iCal Export//EN
BEGIN:VEVENT
SUMMARY:Dino Bingo
UID:212132
DTSTAMP:20260425T130200Z
DTSTART:20260728T183000Z
DTEND:20260728T193000Z
LOCATION:260 E. Santa Fe St., Olathe, KS 66061, United States
ROOM: Children&#039;s Program Room Downtown
DESCRIPTION:Join us as we put a dinosaur spin on a classic game. Come play
  bingo at the library. There will be prizes!
URL:https://olathelibrary.librarycalendar.com/index.php/event/dino-bingo-2
 12132
END:VEVENT
END:VCALENDAR
