BEGIN:VCALENDAR
VERSION:2.0
PRODID:-//Library Market//iCal Export//EN
BEGIN:VEVENT
SUMMARY:Block Party: A Minecraft-Inspired Event
UID:207205
DTSTAMP:20260425T115400Z
DTSTART:20260808T150000Z
DTEND:20260808T180000Z
LOCATION:16100 W. 135th St, Olathe, KS 66062, United States
ROOM: Event Space - Full (East+West)
DESCRIPTION:Drop in for an all-ages celebration of Minecraft with hands-on
  activities, creative challenges, games, and crafts inspired by the blocky
  world you love. No experience required - bring your imagination!Not an of
 ficial Minecraft event. Not approved by or associated with Mojang or Micro
 soft.
URL:https://olathelibrary.librarycalendar.com/event/wip-minecraft-day-2072
 05
END:VEVENT
END:VCALENDAR
