BEGIN:VCALENDAR
VERSION:2.0
PRODID:-//Library Market//iCal Export//EN
BEGIN:VEVENT
SUMMARY:Stretch &amp; Restore
UID:207638
DTSTAMP:20260423T200900Z
DTSTART:20260623T160000Z
DTEND:20260623T164500Z
LOCATION:16100 W. 135th St, Olathe, KS 66062, United States
ROOM: Children&#039;s Program Room Indian Creek
DESCRIPTION:Olathe Community Center instructors lead a passive practice in
  which poses are held for a few minutes at a time. This practice focuses o
 n deep stretching and restorative poses to improve mental clarity and offe
 r deep relaxation. All postures are seated on a yoga mat on the floor, whi
 ch makes this type of yoga great for all levels, including seniors. Use on
 e of our mats or bring your own.
URL:https://olathelibrary.librarycalendar.com/event/wip-stretch-restore-20
 7638
END:VEVENT
END:VCALENDAR
