BEGIN:VCALENDAR
VERSION:2.0
PRODID:-//Library Market//iCal Export//EN
BEGIN:VEVENT
SUMMARY:Dino Crochet
UID:208111
DTSTAMP:20260423T200900Z
DTSTART:20260630T180000Z
DTEND:20260630T200000Z
LOCATION:260 E. Santa Fe St., Olathe, KS 66061, United States
ROOM: 3rd Floor Creative/Art Room
DESCRIPTION:Learn how to crochet a different dinosaur plush each month! Al
 l materials provided, and all experience levels welcome.This program is of
 fered twice a month; please only sign up for one session.May: StegosaurusJ
 une: BrachiosaurusJuly: T-Rex
URL:https://olathelibrary.librarycalendar.com/event/wip-hooked-dinos-20811
 1
END:VEVENT
END:VCALENDAR
