BEGIN:VCALENDAR
VERSION:2.0
PRODID:-//Library Market//iCal Export//EN
BEGIN:VEVENT
SUMMARY:Intermediate Crochet
UID:209248
DTSTAMP:20260424T034000Z
DTSTART:20260615T233000Z
DTEND:20260616T010000Z
LOCATION:16100 W. 135th St, Olathe, KS 66062, United States
ROOM: Children&#039;s Program Room Indian Creek
DESCRIPTION:Have you mastered the basics of crochet and are looking to exp
 and your skills? In this class, we will build on the basic chain and singl
 e crochet stitches to make more advanced pieces. We will make a hat and a 
 scarf. All materials provided.You must know how to chain and single croch
 et to be successful in this class. This is a series. Each class will buil
 d on skills learned at the previous session. You must attend each class in
  the series. 
URL:https://olathelibrary.librarycalendar.com/event/wip-intermediate-croch
 et-209248
END:VEVENT
END:VCALENDAR
