BEGIN:VCALENDAR
VERSION:2.0
PRODID:-//Library Market//iCal Export//EN
BEGIN:VEVENT
SUMMARY:Will it Waffle?
UID:211472
DTSTAMP:20260423T102900Z
DTSTART:20260813T180000Z
DTEND:20260813T190000Z
LOCATION:260 E. Santa Fe St., Olathe, KS 66061, United States
ROOM: 3rd Floor Creative/Art Room
DESCRIPTION:We&#039;re putting unexpected foods to the waffle maker test -
  from grilled cheese and quesadillas to pizza, cinnamon rolls, and more. E
 ach session, we&#039;ll make something new and see if it waffles... or flo
 ps. Come hungry and get ready for some delicious results!Allergy Disclaime
 r: Foods prepared in this program may contain common allergens (including 
 wheat, dairy, eggs, and soy), and we cannot guarantee that any items are f
 ree from cross-contact with allergens.
URL:https://olathelibrary.librarycalendar.com/event/wip-will-it-waffle-211
 472
END:VEVENT
END:VCALENDAR
