BEGIN:VCALENDAR
VERSION:2.0
PRODID:-//Library Market//iCal Export//EN
BEGIN:VEVENT
SUMMARY:Soccer Fun for Beginners
UID:211564
DTSTAMP:20260423T224600Z
DTSTART:20260711T150000Z
DTEND:20260712T043000Z
LOCATION:16100 W. 135th St, Olathe, KS 66062, United States
ROOM: Exterior Court Yard
DESCRIPTION:It&#039;s time to &quot;Read! Score! Roar!&quot; Literally!Joi
 n coaches from Sporting Blue Valley who will be training beginners in socc
 er skills, teamwork, and more. Have fun playing training games and soccer 
 scrimmages!Activity will be outside and will include water breaks for part
 icipants.In case of rain, program will be rescheduled.
URL:https://olathelibrary.librarycalendar.com/event/soccer-fun-beginners-2
 11564
END:VEVENT
END:VCALENDAR
