BEGIN:VCALENDAR
VERSION:2.0
PRODID:-//Library Market//iCal Export//EN
BEGIN:VEVENT
SUMMARY:Dinosaurs Are Not Extinct
UID:211569
DTSTAMP:20260423T224600Z
DTSTART:20260630T183000Z
DTEND:20260630T193000Z
LOCATION:260 E. Santa Fe St., Olathe, KS 66061, United States
ROOM: Flexbox Theater
DESCRIPTION:Join the Naturalists from Lakeside Nature Center and learn how
  dinosaurs are still here today. Meet and interact with the modern day ani
 mal relatives of the dinosaurs that once ruled the earth. 
URL:https://olathelibrary.librarycalendar.com/event/dinosaurs-are-not-exti
 nct-211569
END:VEVENT
END:VCALENDAR
