BEGIN:VCALENDAR
VERSION:2.0
PRODID:-//Library Market//iCal Export//EN
BEGIN:VEVENT
SUMMARY:Summer Reading Challenge: READ, SCORE, ROAR!
UID:211718
DTSTAMP:20260421T110900Z
DTSTART:20260518T050000Z
DTEND:20260802T050000Z
LOCATION:
DESCRIPTION:Get ready to READ, SCORE, ROAR! 📖🦖⚽From May 18 – Aug
 ust 2, Olathe Public Library invites children, teens, and adults to join o
 ur Summer Reading Challenge in Beanstack, where dinosaurs stomp onto the f
 ield, and reading is the ultimate win. Participants are challenged to read
  and log at least one book during the summer to earn digital badges, track
  progress, and have fun along the way. Each age-group challenge includes c
 hances to win prizes, so readers of all ages can play, read, and roar thei
 r way through the season.Whether you’re cheering for goals or giant dino
 s, there’s something for everyone—happy reading! 
URL:https://olathelibrary.librarycalendar.com/event/summer-reading-challen
 ge-211718
END:VEVENT
END:VCALENDAR
