BEGIN:VCALENDAR
VERSION:2.0
PRODID:-//Library Market//iCal Export//EN
BEGIN:VEVENT
SUMMARY:Creative Connections
UID:211796
DTSTAMP:20260423T224600Z
DTSTART:20260825T150000Z
DTEND:20260825T160000Z
LOCATION:16100 W. 135th St, Olathe, KS 66062, United States
ROOM: Event Space - West
DESCRIPTION:Join us at the library for Creative Connections, a welcoming, 
 joyful space where adults with disabilities come together to create, conne
 ct, and explore. We meet regularly for engaging, hands-on activities tailo
 red to the group’s interests. 
URL:https://olathelibrary.librarycalendar.com/event/creative-connections-2
 11796
END:VEVENT
END:VCALENDAR
