BEGIN:VCALENDAR
VERSION:2.0
PRODID:-//Library Market//iCal Export//EN
BEGIN:VEVENT
SUMMARY:Safe@Home Class
UID:212069
DTSTAMP:20260423T200900Z
DTSTART:20260602T190000Z
DTEND:20260602T210000Z
LOCATION:16100 W. 135th St, Olathe, KS 66062, United States
ROOM: Children&#039;s Program Room Indian Creek
DESCRIPTION:This program ideal for tweens that have expressed interest i
 n assuming the responsibility of staying home alone. Safe@Home is a 
 two-hour program that teaches children how to practice safe habits, how
  to prevent unsafe situations, and what to do when faced with dangers such
  as power failures or weather emergencies. Students are also introduced to
  the Safe Sitter® First Aid Chart and learn a system to help them assess 
 and respond to injuries and illnesses. 
URL:https://olathelibrary.librarycalendar.com/event/safehome-class-212069
END:VEVENT
END:VCALENDAR
