BEGIN:VCALENDAR
VERSION:2.0
PRODID:-//Library Market//iCal Export//EN
BEGIN:VEVENT
SUMMARY:Safe@Home Class
UID:212070
DTSTAMP:20260423T200900Z
DTSTART:20260714T180000Z
DTEND:20260714T200000Z
LOCATION:260 E. Santa Fe St., Olathe, KS 66061, United States
ROOM: 3rd Floor Creative/Art Room
DESCRIPTION:This program ideal for tweens that have expressed interest i
 n assuming the responsibility of staying home alone. Safe@Home is a 
 two-hour program that teaches children how to practice safe habits, how
  to prevent unsafe situations, and what to do when faced with dangers such
  as power failures or weather emergencies. Students are also introduced to
  the Safe Sitter® First Aid Chart and learn a system to help them assess 
 and respond to injuries and illnesses. 
URL:https://olathelibrary.librarycalendar.com/event/safehome-class-212070
END:VEVENT
END:VCALENDAR
