BEGIN:VCALENDAR
VERSION:2.0
PRODID:-//Library Market//iCal Export//EN
BEGIN:VEVENT
SUMMARY:Lego Print Making
UID:212254
DTSTAMP:20260423T224600Z
DTSTART:20260611T230000Z
DTEND:20260612T003000Z
LOCATION:16100 W. 135th St, Olathe, KS 66062, United States
ROOM: The Lab
DESCRIPTION:Come learn the basics of print making with a fun and simple me
 thod using Legos. You&#039;ll get hands on experience with printing inks a
 nd other tools. Leave with a small print you designed!This may be a messy 
 class, please wear clothes you don&#039;t mind getting marks on if you hav
 e an accident with the print making process.This class is for adults ages 
 18 and up.
URL:https://olathelibrary.librarycalendar.com/event/lego-print-making-2122
 54
END:VEVENT
END:VCALENDAR
